BEGIN:VCALENDAR
VERSION:2.0
PRODID:-//Polished Pebbles Girls Mentoring Program - ECPv6.11.0.1//NONSGML v1.0//EN
CALSCALE:GREGORIAN
METHOD:PUBLISH
X-WR-CALNAME:Polished Pebbles Girls Mentoring Program
X-ORIGINAL-URL:https://polishedpebbles.com
X-WR-CALDESC:Events for Polished Pebbles Girls Mentoring Program
REFRESH-INTERVAL;VALUE=DURATION:PT1H
X-Robots-Tag:noindex
X-PUBLISHED-TTL:PT1H
BEGIN:VTIMEZONE
TZID:America/Chicago
BEGIN:DAYLIGHT
TZOFFSETFROM:-0600
TZOFFSETTO:-0500
TZNAME:CDT
DTSTART:20250309T080000
END:DAYLIGHT
BEGIN:STANDARD
TZOFFSETFROM:-0500
TZOFFSETTO:-0600
TZNAME:CST
DTSTART:20251102T070000
END:STANDARD
END:VTIMEZONE
BEGIN:VEVENT
DTSTART;TZID=America/Chicago:20250222T110000
DTEND;TZID=America/Chicago:20250222T133000
DTSTAMP:20260419T182829
CREATED:20250213T210114Z
LAST-MODIFIED:20250213T221321Z
UID:5995-1740222000-1740231000@polishedpebbles.com
SUMMARY:MOMMY AND ME  - EVENT
DESCRIPTION:A Transformative Etiquette Lunch Experience hosted by Rica Cuff of Etiquette Works\nPresented By Polished Pebbles & The Nascent Group\nInteractive Etiquette Workshop —\nDevelop posture\, tone\, and nonverbal communication skills to carry yourself with elegance and professionalism \nThree-Course Luncheon\nMaster Formal Dining Etiquette: Learn table manners\, proper utensil use\, and how to confidently navigate formal dining settings \nEmpowerment and Career Readiness\nGain the skills to attend business lunches\, networking events\, and social confidently gatherings with ease \nLeave Lasting Impressions\nSeats are limited—don’t miss this opportunity to transform confidence and etiquette into success! Save your seat now and take the first step toward mastering the skills that will set you apart. \npolishedpebbles.com\n4420 S Cottage Grove Ave\nChicago\, IL 60653 \nTo RSVP for this Event  — Please fill out the form below\n\n                \n                        \n                            MOMMY AND ME\n                             \n                        \n                        Name\n                            \n                            \n                                                    \n                                                    First\n                                                \n                            \n                            \n                                                    \n                                                    Last\n                                                \n                            \n                        Email\n                                \n                                    \n                                    Enter Email\n                                \n                                \n                                    \n                                    Confirm Email\n                                \n                                \n                            How did you hear about this webinar?Social MediaAdvertisementWord of MouthOtherAdditional GuestTicket for MyselfMyself + 1 GuestMyself + 2 GuestMyself + 3 GuestWant to keep up-to-date with our latest news and announcements? Yes please!\n          \n            \n            \n            \n            \n            \n            \n            \n            \n            \n            \n            \n            \n        \n                        Δ
URL:https://polishedpebbles.com/event/mommy-and-me-event/
LOCATION:Bronzeville Winery\, 4420 S. Cottage Grove Ave\, Chicago\, IL\, 60653\, United States
ATTACH;FMTTYPE=image/png:https://polishedpebbles.com/wp-content/uploads/2025/02/MOMMY-AND-ME-2-2025.png
ORGANIZER;CN="Polished Pebbles":MAILTO:volunteer@polishedpebbles.com
END:VEVENT
END:VCALENDAR