BEGIN:VCALENDAR
VERSION:2.0
PRODID:-//Polished Pebbles Girls Mentoring Program - ECPv6.11.0.1//NONSGML v1.0//EN
CALSCALE:GREGORIAN
METHOD:PUBLISH
X-WR-CALNAME:Polished Pebbles Girls Mentoring Program
X-ORIGINAL-URL:https://polishedpebbles.com
X-WR-CALDESC:Events for Polished Pebbles Girls Mentoring Program
REFRESH-INTERVAL;VALUE=DURATION:PT1H
X-Robots-Tag:noindex
X-PUBLISHED-TTL:PT1H
BEGIN:VTIMEZONE
TZID:America/Chicago
BEGIN:DAYLIGHT
TZOFFSETFROM:-0600
TZOFFSETTO:-0500
TZNAME:CDT
DTSTART:20240310T080000
END:DAYLIGHT
BEGIN:STANDARD
TZOFFSETFROM:-0500
TZOFFSETTO:-0600
TZNAME:CST
DTSTART:20241103T070000
END:STANDARD
END:VTIMEZONE
BEGIN:VEVENT
DTSTART;TZID=America/Chicago:20240511T110000
DTEND;TZID=America/Chicago:20240511T130000
DTSTAMP:20260422T064034
CREATED:20240418T152943Z
LAST-MODIFIED:20240418T153016Z
UID:5276-1715425200-1715432400@polishedpebbles.com
SUMMARY:Saturday Sessions Series "Step in our Shoes"
DESCRIPTION:Polished Pebbles Saturday Sessions Series: “Step in Our Shoes”\n\nAs part of our 15th anniversary celebration\, we invite you to join us on an exciting journey as the Polished Pebbles Saturday Sessions Series continues! \nEvent Details:\nWest Session \nDate: Saturday\, May 11\nTime: 11:00 a.m. – 1:00 p.m.\nLocation: Broadview Public Library\, 2226 16th Avenue\, Broadview\, IL \nJoin us for our Saturday Session Series!\nSaturday Session Programming provides an opportunity for current mentees\, community members\, parents\, and others to engage with one another while learning themed skills. Our sessions provide resources to aid in the personal\, academic\, and professional development of girls 7 – 18. During this session\, we will commemorate our journey of success as we celebrate 15 years of service to our girls. Students will discuss mentorship and how their involvement with Polished Pebbles has helped them and their peers. We will highlight the most memorable moments of our students\, our parents\, our staff\, and our volunteers by designing shoes to represent the Polished Pebbles journey. Step in our shoes as we walk through 15 years of POLISHED success! \nDon’t miss this event\, register today!!\nIf interested in volunteering please register and contact us at volunteer@polishedpebbles.com for more information.
URL:https://polishedpebbles.com/event/saturday-sessions-series-step-in-our-shoes/
LOCATION:Broadview Public Library\, 2226 16th Avenue\, Broadview\, IL\, 60155
CATEGORIES:Saturday Sessions
ORGANIZER;CN="Polished Pebbles":MAILTO:volunteer@polishedpebbles.com
END:VEVENT
BEGIN:VEVENT
DTSTART;TZID=America/Chicago:20240427T100000
DTEND;TZID=America/Chicago:20240427T120000
DTSTAMP:20260422T064034
CREATED:20240418T152545Z
LAST-MODIFIED:20240418T153046Z
UID:5273-1714212000-1714219200@polishedpebbles.com
SUMMARY:Saturday Sessions Series "Step in our Shoes"
DESCRIPTION:Polished Pebbles Saturday Sessions Series: “Step in Our Shoes”\n\nAs part of our 15th anniversary celebration\, we invite you to join us on an exciting journey as the Polished Pebbles Saturday Sessions Series continues! \nEvent Details:\nSouth Session \nDate: Saturday\, April 27\nTime: 10:00 a.m. – 12:00 p.m.\nLocation: Christ Universal Temple\, 11901 S. Ashland Avenue\, Chicago\, IL \nJoin us for our Saturday Session Series!\nSaturday Session Programming provides an opportunity for current mentees\, community members\, parents\, and others to engage with one another while learning themed skills. Our sessions provide resources to aid in the personal\, academic\, and professional development of girls 7 – 18. During this session\, we will commemorate our journey of success as we celebrate 15 years of service to our girls. Students will discuss mentorship and how their involvement with Polished Pebbles has helped them and their peers. We will highlight the most memorable moments of our students\, our parents\, our staff\, and our volunteers by designing shoes to represent the Polished Pebbles journey. Step in our shoes as we walk through 15 years of POLISHED success! \nDon’t miss this event\, register today!!\nIf interested in volunteering please register and contact us at volunteer@polishedpebbles.com for more information.
URL:https://polishedpebbles.com/event/april_may-saturday-sessions/
LOCATION:Christ Universal Temple\, 11901 S. Ashland Avenue\, Chicago\, IL\, 60643\, United States
CATEGORIES:Saturday Sessions
ORGANIZER;CN="Polished Pebbles":MAILTO:volunteer@polishedpebbles.com
END:VEVENT
BEGIN:VEVENT
DTSTART;TZID=America/Chicago:20240323T100000
DTEND;TZID=America/Chicago:20240323T120000
DTSTAMP:20260422T064034
CREATED:20240309T135907Z
LAST-MODIFIED:20240309T140539Z
UID:5257-1711188000-1711195200@polishedpebbles.com
SUMMARY:WOMEN emPOWERed Interactive Panel Discussion
DESCRIPTION:WOMEN emPOWERed Interactive Panel Discussion\nThe goal for this event is to empower our girls while acknowledging key leaders in Chicago. Our hope is not only expose our girls to the success of current leaders to inspire their future success\, but to also provide a networking opportunity for empowerment and growth.  \nOur upcoming session for this month will highlight women empowerment! This session will be held Saturday\, March 23rd from 11 a.m. – 1 p.m. at Christ Universal Temple (11901 S. Ashland Ave.)  \nRegister Today! \nPanelist include: \nTenille Jackson\nFounder\, Chicagoland Mom Squad\nCEO\, Digital Vision Enterprises\, LLC \nNia Lackland\nMarketing & Programs Manager\nPolished Pebbles Girls Mentoring Program \nMarilyn Bullock\nBullock’s Butters \nCrystal Valentine\nBusinesses-woman & Philanthropist\nModerator \nMuriyea Briscoe\nStudent Ambassador\nPolished Pebbles Girls Mentoring Program \nMore Information:\nSaturday Session Programming provides an opportunity for current mentees\, community members\, parents\, and others to engage with one another while learning themed skills. Our sessions provide resources to aid in the personal\, academic\, and professional development of girls 7 – 18. Not only do we service students in our school based programming as well as local families during these events but we also host virtual sessions with global partners. Below are a list of our most recent sessions: \n\n\n\nPinky Promise: Pebble Friendship Day (Global)\nPaint Me Polished – Chat & Paint\nSocial Media 101: Branding Yourself\nPolishing Our Love for Communication\nRefresh & Reset Programming Mixers\nHealth 101: Polished Hygiene\nManaging Your Emotions
URL:https://polishedpebbles.com/event/women-empowered-interactive-panel-discussion/
LOCATION:Christ Universal Temple\, 11901 S. Ashland Avenue\, Chicago\, IL\, 60643\, United States
CATEGORIES:Saturday Sessions
ATTACH;FMTTYPE=image/jpeg:https://polishedpebbles.com/wp-content/uploads/2024/03/Draft-Graphic.jpg
ORGANIZER;CN="Polished Pebbles":MAILTO:volunteer@polishedpebbles.com
END:VEVENT
END:VCALENDAR